Package: GraphAT Version: 1.79.0 Command: rm -rf GraphAT.buildbin-libdir && mkdir GraphAT.buildbin-libdir && /Users/biocbuild/BBS/utils/build-universal.sh GraphAT_1.79.0.tar.gz /Library/Frameworks/R.framework/Resources/bin/R GraphAT.buildbin-libdir StartedAt: 2025-02-09 22:16:42 -0500 (Sun, 09 Feb 2025) EndedAt: 2025-02-09 22:16:45 -0500 (Sun, 09 Feb 2025) EllapsedTime: 3.1 seconds RetCode: 0 Status: OK PackageFile: GraphAT_1.79.0.tgz PackageFileSize: 1.918 MiB