Package: GraphAT Version: 1.79.0 Command: /Library/Frameworks/R.framework/Resources/bin/R CMD INSTALL GraphAT StartedAt: 2025-02-09 15:21:39 -0500 (Sun, 09 Feb 2025) EndedAt: 2025-02-09 15:21:43 -0500 (Sun, 09 Feb 2025) EllapsedTime: 3.5 seconds RetCode: 0 Status: OK