Package: GraphAT Version: 1.79.0 Command: /Library/Frameworks/R.framework/Resources/bin/R CMD check --install=check:GraphAT.install-out.txt --library=/Library/Frameworks/R.framework/Resources/library --no-vignettes --timings GraphAT_1.79.0.tar.gz StartedAt: 2025-02-09 21:07:52 -0500 (Sun, 09 Feb 2025) EndedAt: 2025-02-09 21:09:03 -0500 (Sun, 09 Feb 2025) EllapsedTime: 71.2 seconds RetCode: 0 Status: OK CheckDir: GraphAT.Rcheck Warnings: 0