Package: GraphAT Version: 1.79.0 Command: /Library/Frameworks/R.framework/Resources/bin/R CMD INSTALL GraphAT StartedAt: 2025-02-12 15:34:01 -0500 (Wed, 12 Feb 2025) EndedAt: 2025-02-12 15:34:12 -0500 (Wed, 12 Feb 2025) EllapsedTime: 11.1 seconds RetCode: 0 Status: OK