Package: GraphAT Version: 1.79.0 Command: rm -rf GraphAT.buildbin-libdir && mkdir GraphAT.buildbin-libdir && E:\biocbuild\bbs-3.21-bioc\R\bin\R.exe CMD INSTALL --build --library=GraphAT.buildbin-libdir GraphAT_1.79.0.tar.gz StartedAt: 2025-02-13 08:04:02 -0500 (Thu, 13 Feb 2025) EndedAt: 2025-02-13 08:04:14 -0500 (Thu, 13 Feb 2025) EllapsedTime: 12.1 seconds RetCode: 0 Status: OK PackageFile: GraphAT_1.79.0.zip PackageFileSize: 1.92 MiB