Package: GraphAT Version: 1.79.0 Command: E:\biocbuild\bbs-3.21-bioc\R\bin\R.exe CMD check --no-multiarch --install=check:GraphAT.install-out.txt --library=E:\biocbuild\bbs-3.21-bioc\R\library --no-vignettes --timings GraphAT_1.79.0.tar.gz StartedAt: 2025-02-13 01:54:15 -0500 (Thu, 13 Feb 2025) EndedAt: 2025-02-13 01:55:29 -0500 (Thu, 13 Feb 2025) EllapsedTime: 73.8 seconds RetCode: 0 Status: OK CheckDir: GraphAT.Rcheck Warnings: 0