Package: GraphAlignment Version: 1.71.0 Maintainer: Joern P. Meier MaintainerEmail: mail at ionflux.org git_url: https://git.bioconductor.org/packages/GraphAlignment git_branch: devel git_last_commit: 3faa9a6 git_last_commit_date: 2024-10-29 09:28:35 -0500 (Tue, 29 Oct 2024)