Package: GraphAlignment Version: 1.71.0 Command: rm -rf GraphAlignment.buildbin-libdir && mkdir GraphAlignment.buildbin-libdir && /Users/biocbuild/BBS/utils/build-universal.sh GraphAlignment_1.71.0.tar.gz /Library/Frameworks/R.framework/Resources/bin/R GraphAlignment.buildbin-libdir StartedAt: 2025-02-04 22:18:33 -0500 (Tue, 04 Feb 2025) EndedAt: 2025-02-04 22:18:36 -0500 (Tue, 04 Feb 2025) EllapsedTime: 3.0 seconds RetCode: 0 Status: OK PackageFile: GraphAlignment_1.71.0.tgz PackageFileSize: 575.7 KiB