Package: GraphAlignment Version: 1.71.0 Command: /Library/Frameworks/R.framework/Resources/bin/R CMD check --install=check:GraphAlignment.install-out.txt --library=/Library/Frameworks/R.framework/Resources/library --no-vignettes --timings GraphAlignment_1.71.0.tar.gz StartedAt: 2025-02-09 19:32:23 -0500 (Sun, 09 Feb 2025) EndedAt: 2025-02-09 19:32:33 -0500 (Sun, 09 Feb 2025) EllapsedTime: 10.1 seconds RetCode: 0 Status: OK CheckDir: GraphAlignment.Rcheck Warnings: 0