Package: GraphAlignment Version: 1.71.0 Command: /home/biocbuild/bbs-3.21-bioc/R/bin/R CMD INSTALL GraphAlignment StartedAt: 2025-02-09 15:07:39 -0500 (Sun, 09 Feb 2025) EndedAt: 2025-02-09 15:08:15 -0500 (Sun, 09 Feb 2025) EllapsedTime: 35.4 seconds RetCode: 0 Status: OK