Package: GraphPAC Version: 1.49.0 Command: /Library/Frameworks/R.framework/Resources/bin/R CMD build --keep-empty-dirs --no-resave-data GraphPAC StartedAt: 2025-02-09 16:32:18 -0500 (Sun, 09 Feb 2025) EndedAt: 2025-02-09 16:32:49 -0500 (Sun, 09 Feb 2025) EllapsedTime: 31.3 seconds RetCode: 0 Status: OK PackageFile: GraphPAC_1.49.0.tar.gz PackageFileSize: 706 KiB