Package: GraphPAC Version: 1.49.0 Command: /Library/Frameworks/R.framework/Resources/bin/R CMD check --install=check:GraphPAC.install-out.txt --library=/Library/Frameworks/R.framework/Resources/library --no-vignettes --timings GraphPAC_1.49.0.tar.gz StartedAt: 2025-02-12 19:36:44 -0500 (Wed, 12 Feb 2025) EndedAt: 2025-02-12 19:37:12 -0500 (Wed, 12 Feb 2025) EllapsedTime: 28.4 seconds RetCode: 0 Status: OK CheckDir: GraphPAC.Rcheck Warnings: 0