Package: GraphPAC Version: 1.49.0 Command: /Library/Frameworks/R.framework/Resources/bin/R CMD build --keep-empty-dirs --no-resave-data GraphPAC StartedAt: 2025-02-09 16:58:19 -0500 (Sun, 09 Feb 2025) EndedAt: 2025-02-09 16:59:48 -0500 (Sun, 09 Feb 2025) EllapsedTime: 89.1 seconds RetCode: 0 Status: OK PackageFile: GraphPAC_1.49.0.tar.gz PackageFileSize: 705.4 KiB