Package: GraphPAC Version: 1.49.0 Command: /Library/Frameworks/R.framework/Resources/bin/R CMD check --install=check:GraphPAC.install-out.txt --library=/Library/Frameworks/R.framework/Resources/library --no-vignettes --timings GraphPAC_1.49.0.tar.gz StartedAt: 2025-02-09 21:08:10 -0500 (Sun, 09 Feb 2025) EndedAt: 2025-02-09 21:09:29 -0500 (Sun, 09 Feb 2025) EllapsedTime: 79.2 seconds RetCode: 0 Status: OK CheckDir: GraphPAC.Rcheck Warnings: 0