Package: GraphPAC Version: 1.49.0 Command: /home/biocbuild/bbs-3.21-bioc/R/bin/R CMD build --keep-empty-dirs --no-resave-data GraphPAC StartedAt: 2025-02-09 17:30:44 -0500 (Sun, 09 Feb 2025) EndedAt: 2025-02-09 17:32:03 -0500 (Sun, 09 Feb 2025) EllapsedTime: 79.1 seconds RetCode: 0 Status: OK PackageFile: GraphPAC_1.49.0.tar.gz PackageFileSize: 706 KiB