Package: GraphPAC Version: 1.49.0 Command: /home/biocbuild/bbs-3.21-bioc/R/bin/R CMD INSTALL GraphPAC StartedAt: 2025-02-09 15:49:52 -0500 (Sun, 09 Feb 2025) EndedAt: 2025-02-09 15:50:05 -0500 (Sun, 09 Feb 2025) EllapsedTime: 13.5 seconds RetCode: 0 Status: OK