Package: GraphPAC Version: 1.49.0 Command: rm -rf GraphPAC.buildbin-libdir && mkdir GraphPAC.buildbin-libdir && E:\biocbuild\bbs-3.21-bioc\R\bin\R.exe CMD INSTALL --build --library=GraphPAC.buildbin-libdir GraphPAC_1.49.0.tar.gz StartedAt: 2025-02-13 08:04:06 -0500 (Thu, 13 Feb 2025) EndedAt: 2025-02-13 08:04:28 -0500 (Thu, 13 Feb 2025) EllapsedTime: 21.6 seconds RetCode: 0 Status: OK PackageFile: GraphPAC_1.49.0.zip PackageFileSize: 360.9 KiB