Package: GraphPAC Version: 1.49.0 Command: E:\biocbuild\bbs-3.21-bioc\R\bin\R.exe CMD check --no-multiarch --install=check:GraphPAC.install-out.txt --library=E:\biocbuild\bbs-3.21-bioc\R\library --no-vignettes --timings GraphPAC_1.49.0.tar.gz StartedAt: 2025-02-10 01:44:13 -0500 (Mon, 10 Feb 2025) EndedAt: 2025-02-10 01:45:32 -0500 (Mon, 10 Feb 2025) EllapsedTime: 78.6 seconds RetCode: 0 Status: OK CheckDir: GraphPAC.Rcheck Warnings: 0