Package: Gviz Version: 1.51.0 Command: /Library/Frameworks/R.framework/Resources/bin/R CMD build --keep-empty-dirs --no-resave-data Gviz StartedAt: 2025-02-12 16:34:04 -0500 (Wed, 12 Feb 2025) EndedAt: 2025-02-12 16:35:27 -0500 (Wed, 12 Feb 2025) EllapsedTime: 82.8 seconds RetCode: 0 Status: OK PackageFile: Gviz_1.51.0.tar.gz PackageFileSize: 7.78 MiB