Package: Gviz Version: 1.51.0 Command: /Library/Frameworks/R.framework/Resources/bin/R CMD build --keep-empty-dirs --no-resave-data Gviz StartedAt: 2025-02-09 17:00:48 -0500 (Sun, 09 Feb 2025) EndedAt: 2025-02-09 17:05:03 -0500 (Sun, 09 Feb 2025) EllapsedTime: 255.4 seconds RetCode: 0 Status: OK PackageFile: Gviz_1.51.0.tar.gz PackageFileSize: 7.778 MiB