Package: Gviz Version: 1.51.0 Command: /Library/Frameworks/R.framework/Resources/bin/R CMD INSTALL Gviz StartedAt: 2025-02-09 15:26:50 -0500 (Sun, 09 Feb 2025) EndedAt: 2025-02-09 15:28:15 -0500 (Sun, 09 Feb 2025) EllapsedTime: 84.6 seconds RetCode: 0 Status: OK