Package: Gviz Version: 1.51.0 Command: rm -rf Gviz.buildbin-libdir && mkdir Gviz.buildbin-libdir && E:\biocbuild\bbs-3.21-bioc\R\bin\R.exe CMD INSTALL --build --library=Gviz.buildbin-libdir Gviz_1.51.0.tar.gz StartedAt: 2025-02-10 07:53:56 -0500 (Mon, 10 Feb 2025) EndedAt: 2025-02-10 07:56:23 -0500 (Mon, 10 Feb 2025) EllapsedTime: 147.5 seconds RetCode: 0 Status: OK PackageFile: Gviz_1.51.0.zip PackageFileSize: 5.964 MiB