Package: Gviz Version: 1.51.0 Command: chmod a+r Gviz -R && E:\biocbuild\bbs-3.21-bioc\R\bin\R.exe CMD build --keep-empty-dirs --no-resave-data Gviz StartedAt: 2025-02-09 19:08:46 -0500 (Sun, 09 Feb 2025) EndedAt: 2025-02-09 19:14:23 -0500 (Sun, 09 Feb 2025) EllapsedTime: 337.6 seconds RetCode: 0 Status: OK PackageFile: Gviz_1.51.0.tar.gz PackageFileSize: 5.93 MiB