Package: HDF5Array Version: 1.35.11 Maintainer: Hervé Pagès MaintainerEmail: hpages.on.github at gmail.com git_url: https://git.bioconductor.org/packages/HDF5Array git_branch: devel git_last_commit: e9b6b9a git_last_commit_date: 2025-02-01 13:27:36 -0500 (Sat, 01 Feb 2025)