Package: HDF5Array Version: 1.35.11 Command: rm -rf HDF5Array.buildbin-libdir && mkdir HDF5Array.buildbin-libdir && /Users/biocbuild/BBS/utils/build-universal.sh HDF5Array_1.35.11.tar.gz /Library/Frameworks/R.framework/Resources/bin/R HDF5Array.buildbin-libdir StartedAt: 2025-02-04 22:19:01 -0500 (Tue, 04 Feb 2025) EndedAt: 2025-02-04 22:19:11 -0500 (Tue, 04 Feb 2025) EllapsedTime: 9.3 seconds RetCode: 0 Status: OK PackageFile: HDF5Array_1.35.11.tgz PackageFileSize: 8.566 MiB