Package: HDF5Array Version: 1.35.11 Command: /Library/Frameworks/R.framework/Resources/bin/R CMD build --keep-empty-dirs --no-resave-data HDF5Array StartedAt: 2025-02-04 16:35:43 -0500 (Tue, 04 Feb 2025) EndedAt: 2025-02-04 16:53:52 -0500 (Tue, 04 Feb 2025) EllapsedTime: 1088.9 seconds RetCode: 0 Status: OK PackageFile: HDF5Array_1.35.11.tar.gz PackageFileSize: 7.949 MiB