Package: HDF5Array Version: 1.35.11 Command: /Library/Frameworks/R.framework/Resources/bin/R CMD check --install=check:HDF5Array.install-out.txt --library=/Library/Frameworks/R.framework/Resources/library --no-vignettes --timings HDF5Array_1.35.11.tar.gz StartedAt: 2025-02-04 19:37:47 -0500 (Tue, 04 Feb 2025) EndedAt: 2025-02-04 19:39:25 -0500 (Tue, 04 Feb 2025) EllapsedTime: 98.2 seconds RetCode: 0 Status: OK CheckDir: HDF5Array.Rcheck Warnings: 0