Package: HDF5Array Version: 1.35.11 Command: /Library/Frameworks/R.framework/Resources/bin/R CMD INSTALL HDF5Array StartedAt: 2025-02-04 15:03:49 -0500 (Tue, 04 Feb 2025) EndedAt: 2025-02-04 15:03:58 -0500 (Tue, 04 Feb 2025) EllapsedTime: 9.0 seconds RetCode: 0 Status: OK