Package: HDF5Array Version: 1.35.11 Command: /home/biocbuild/R/R/bin/R CMD build --keep-empty-dirs --no-resave-data HDF5Array StartedAt: 2025-01-28 23:31:48 -0000 (Tue, 28 Jan 2025) EndedAt: 2025-01-28 23:32:48 -0000 (Tue, 28 Jan 2025) EllapsedTime: 60.0 seconds RetCode: 1 Status: ERROR PackageFile: None PackageFileSize: NA