Package: HDF5Array Version: 1.35.2 Command: /home/biocbuild/R/R/bin/R CMD check --install=check:HDF5Array.install-out.txt --library=/home/biocbuild/R/R/site-library --no-vignettes --timings HDF5Array_1.35.2.tar.gz StartedAt: 2025-01-14 07:32:14 -0000 (Tue, 14 Jan 2025) EndedAt: 2025-01-14 07:40:46 -0000 (Tue, 14 Jan 2025) EllapsedTime: 512.4 seconds RetCode: 1 Status: ERROR CheckDir: HDF5Array.Rcheck Warnings: NA