Package: HDF5Array Version: 1.35.11 Command: /home/biocbuild/R/R/bin/R CMD INSTALL HDF5Array StartedAt: 2025-01-29 19:41:45 -0000 (Wed, 29 Jan 2025) EndedAt: 2025-01-29 19:42:13 -0000 (Wed, 29 Jan 2025) EllapsedTime: 28.7 seconds RetCode: 0 Status: OK