Package: HDF5Array Version: 1.35.12 Command: /home/biocbuild/bbs-3.21-bioc/R/bin/R CMD build --keep-empty-dirs --no-resave-data HDF5Array StartedAt: 2025-02-09 17:35:34 -0500 (Sun, 09 Feb 2025) EndedAt: 2025-02-09 18:12:11 -0500 (Sun, 09 Feb 2025) EllapsedTime: 2197.0 seconds RetCode: 0 Status: OK PackageFile: HDF5Array_1.35.12.tar.gz PackageFileSize: 7.958 MiB