Package: HDF5Array Version: 1.35.12 Command: /home/biocbuild/bbs-3.21-bioc/R/bin/R CMD INSTALL HDF5Array StartedAt: 2025-02-09 15:34:09 -0500 (Sun, 09 Feb 2025) EndedAt: 2025-02-09 15:34:30 -0500 (Sun, 09 Feb 2025) EllapsedTime: 21.5 seconds RetCode: 0 Status: OK