############################################################################## ############################################################################## ### ### Running command: ### ### rm -rf HDF5Array.buildbin-libdir && mkdir HDF5Array.buildbin-libdir && E:\biocbuild\bbs-3.21-bioc\R\bin\R.exe CMD INSTALL --build --library=HDF5Array.buildbin-libdir HDF5Array_1.35.11.tar.gz ### ############################################################################## ############################################################################## * installing *source* package 'HDF5Array' ... ** this is package 'HDF5Array' version '1.35.11' ** using staged installation ** R ** inst ** byte-compile and prepare package for lazy loading ** help *** installing help indices ** building package indices ** installing vignettes ** testing if installed package can be loaded from temporary location ** testing if installed package can be loaded from final location ** testing if installed package keeps a record of temporary installation path * MD5 sums packaged installation of 'HDF5Array' as HDF5Array_1.35.11.zip * DONE (HDF5Array)