Package: HDF5Array Version: 1.35.11 Command: rm -rf HDF5Array.buildbin-libdir && mkdir HDF5Array.buildbin-libdir && E:\biocbuild\bbs-3.21-bioc\R\bin\R.exe CMD INSTALL --build --library=HDF5Array.buildbin-libdir HDF5Array_1.35.11.tar.gz StartedAt: 2025-01-29 07:17:24 -0500 (Wed, 29 Jan 2025) EndedAt: 2025-01-29 07:18:59 -0500 (Wed, 29 Jan 2025) EllapsedTime: 95.6 seconds RetCode: 0 Status: OK PackageFile: HDF5Array_1.35.11.zip PackageFileSize: 8.532 MiB