Package: HDF5Array Version: 1.35.11 Command: chmod a+r HDF5Array -R && E:\biocbuild\bbs-3.21-bioc\R\bin\R.exe CMD build --keep-empty-dirs --no-resave-data HDF5Array StartedAt: 2025-02-04 19:14:05 -0500 (Tue, 04 Feb 2025) EndedAt: 2025-02-04 19:54:05 -0500 (Tue, 04 Feb 2025) EllapsedTime: 2400.1 seconds RetCode: None Status: TIMEOUT PackageFile: None PackageFileSize: NA