Package: HDF5Array Version: 1.35.11 Command: E:\biocbuild\bbs-3.21-bioc\R\bin\R.exe CMD INSTALL HDF5Array StartedAt: 2025-02-04 15:36:19 -0500 (Tue, 04 Feb 2025) EndedAt: 2025-02-04 15:37:28 -0500 (Tue, 04 Feb 2025) EllapsedTime: 69.4 seconds RetCode: 0 Status: OK