Package: HELP Version: 1.65.0 Command: rm -rf HELP.buildbin-libdir && mkdir HELP.buildbin-libdir && /Users/biocbuild/BBS/utils/build-universal.sh HELP_1.65.0.tar.gz /Library/Frameworks/R.framework/Resources/bin/R HELP.buildbin-libdir StartedAt: 2025-02-09 22:17:10 -0500 (Sun, 09 Feb 2025) EndedAt: 2025-02-09 22:17:14 -0500 (Sun, 09 Feb 2025) EllapsedTime: 3.1 seconds RetCode: 0 Status: OK PackageFile: HELP_1.65.0.tgz PackageFileSize: 1.123 MiB