Package: HELP Version: 1.65.0 Command: /Library/Frameworks/R.framework/Resources/bin/R CMD build --keep-empty-dirs --no-resave-data HELP StartedAt: 2025-02-09 16:35:42 -0500 (Sun, 09 Feb 2025) EndedAt: 2025-02-09 16:35:48 -0500 (Sun, 09 Feb 2025) EllapsedTime: 6.1 seconds RetCode: 0 Status: OK PackageFile: HELP_1.65.0.tar.gz PackageFileSize: 1000 KiB