Package: HELP Version: 1.65.0 Command: /Library/Frameworks/R.framework/Resources/bin/R CMD INSTALL HELP StartedAt: 2025-02-03 15:36:27 -0500 (Mon, 03 Feb 2025) EndedAt: 2025-02-03 15:36:29 -0500 (Mon, 03 Feb 2025) EllapsedTime: 1.9 seconds RetCode: 0 Status: OK