Package: HELP Version: 1.65.0 Command: /home/biocbuild/R/R/bin/R CMD INSTALL HELP StartedAt: 2025-01-29 19:31:15 -0000 (Wed, 29 Jan 2025) EndedAt: 2025-01-29 19:31:23 -0000 (Wed, 29 Jan 2025) EllapsedTime: 8.0 seconds RetCode: 0 Status: OK