Package: HELP Version: 1.65.0 Command: /home/biocbuild/bbs-3.21-bioc/R/bin/R CMD build --keep-empty-dirs --no-resave-data HELP StartedAt: 2025-02-04 17:34:31 -0500 (Tue, 04 Feb 2025) EndedAt: 2025-02-04 17:34:43 -0500 (Tue, 04 Feb 2025) EllapsedTime: 12.0 seconds RetCode: 0 Status: OK PackageFile: HELP_1.65.0.tar.gz PackageFileSize: 996.3 KiB