Package: HELP Version: 1.65.0 Command: /home/biocbuild/bbs-3.21-bioc/R/bin/R CMD check --install=check:HELP.install-out.txt --library=/home/biocbuild/bbs-3.21-bioc/R/site-library --timings HELP_1.65.0.tar.gz StartedAt: 2025-02-09 23:03:52 -0500 (Sun, 09 Feb 2025) EndedAt: 2025-02-09 23:04:29 -0500 (Sun, 09 Feb 2025) EllapsedTime: 37.0 seconds RetCode: 0 Status: OK CheckDir: HELP.Rcheck Warnings: 0