Package: HELP Version: 1.65.0 Command: rm -rf HELP.buildbin-libdir && mkdir HELP.buildbin-libdir && E:\biocbuild\bbs-3.21-bioc\R\bin\R.exe CMD INSTALL --build --library=HELP.buildbin-libdir HELP_1.65.0.tar.gz StartedAt: 2025-02-04 08:08:08 -0500 (Tue, 04 Feb 2025) EndedAt: 2025-02-04 08:08:34 -0500 (Tue, 04 Feb 2025) EllapsedTime: 26.0 seconds RetCode: 0 Status: OK PackageFile: HELP_1.65.0.zip PackageFileSize: 1.017 MiB