Package: HELP Version: 1.65.0 Command: E:\biocbuild\bbs-3.21-bioc\R\bin\R.exe CMD INSTALL HELP StartedAt: 2025-02-09 15:23:29 -0500 (Sun, 09 Feb 2025) EndedAt: 2025-02-09 15:23:52 -0500 (Sun, 09 Feb 2025) EllapsedTime: 22.9 seconds RetCode: 0 Status: OK