Package: HEM Version: 1.79.0 Maintainer: HyungJun Cho MaintainerEmail: hcho at virginia.edu git_url: https://git.bioconductor.org/packages/HEM git_branch: devel git_last_commit: 47fa135 git_last_commit_date: 2024-10-29 09:23:06 -0500 (Tue, 29 Oct 2024)