Package: HEM Version: 1.79.0 Command: rm -rf HEM.buildbin-libdir && mkdir HEM.buildbin-libdir && /Users/biocbuild/BBS/utils/build-universal.sh HEM_1.79.0.tar.gz /Library/Frameworks/R.framework/Resources/bin/R HEM.buildbin-libdir StartedAt: 2025-02-04 00:37:59 -0500 (Tue, 04 Feb 2025) EndedAt: 2025-02-04 00:38:10 -0500 (Tue, 04 Feb 2025) EllapsedTime: 11.4 seconds RetCode: 0 Status: OK PackageFile: HEM_1.79.0.tgz PackageFileSize: 717 KiB