Package: HEM Version: 1.79.0 Command: /Library/Frameworks/R.framework/Resources/bin/R CMD build --keep-empty-dirs --no-resave-data HEM StartedAt: 2025-02-09 17:02:56 -0500 (Sun, 09 Feb 2025) EndedAt: 2025-02-09 17:03:15 -0500 (Sun, 09 Feb 2025) EllapsedTime: 19.4 seconds RetCode: 0 Status: OK PackageFile: HEM_1.79.0.tar.gz PackageFileSize: 611 KiB