Package: HEM Version: 1.79.0 Command: /Library/Frameworks/R.framework/Resources/bin/R CMD INSTALL HEM StartedAt: 2025-02-09 15:05:07 -0500 (Sun, 09 Feb 2025) EndedAt: 2025-02-09 15:05:23 -0500 (Sun, 09 Feb 2025) EllapsedTime: 15.8 seconds RetCode: 0 Status: OK