Package: HEM Version: 1.79.0 Command: /home/biocbuild/bbs-3.21-bioc/R/bin/R CMD check --install=check:HEM.install-out.txt --library=/home/biocbuild/bbs-3.21-bioc/R/site-library --timings HEM_1.79.0.tar.gz StartedAt: 2025-02-09 23:04:06 -0500 (Sun, 09 Feb 2025) EndedAt: 2025-02-09 23:04:36 -0500 (Sun, 09 Feb 2025) EllapsedTime: 30.0 seconds RetCode: 0 Status: OK CheckDir: HEM.Rcheck Warnings: 0